BEGIN:VCALENDAR
VERSION:2.0
PRODID:-//Plone.org//NONSGML plone.app.event//EN
X-WR-TIMEZONE:Europe/Madrid
BEGIN:VEVENT
SUMMARY:Lleida
DTSTART;TZID=Europe/Madrid:20260530T200000
DTEND;TZID=Europe/Madrid:20260530T213000
DTSTAMP:20260419T162641Z
UID:6385e4df6d8445e4ad7d769503196fc8-ca@www.veuskat.org
CONTACT:https://culturalleida.koobin.com/ritmealcorveuskat?idioma=CA
CREATED:20260316T220011Z
LAST-MODIFIED:20260316T220012Z
LOCATION:Auditori Enric Granados 
URL:https://www.veuskat.org/ca/recursos/events/lleida-7
END:VEVENT
BEGIN:VTIMEZONE
TZID:Europe/Madrid
X-LIC-LOCATION:Europe/Madrid
BEGIN:DAYLIGHT
DTSTART:20260329T030000
TZNAME:CEST
TZOFFSETFROM:+0100
TZOFFSETTO:+0200
END:DAYLIGHT
END:VTIMEZONE
END:VCALENDAR
